BEGIN:VCALENDAR
VERSION:2.0
PRODID:-//Milton Keynes Church of Christ - ECPv6.15.20//NONSGML v1.0//EN
CALSCALE:GREGORIAN
METHOD:PUBLISH
X-WR-CALNAME:Milton Keynes Church of Christ
X-ORIGINAL-URL:https://mkchurchofchrist.uk
X-WR-CALDESC:Events for Milton Keynes Church of Christ
REFRESH-INTERVAL;VALUE=DURATION:PT1H
X-Robots-Tag:noindex
X-PUBLISHED-TTL:PT1H
BEGIN:VTIMEZONE
TZID:UTC
BEGIN:STANDARD
TZOFFSETFROM:+0000
TZOFFSETTO:+0000
TZNAME:UTC
DTSTART:20240101T000000
END:STANDARD
END:VTIMEZONE
BEGIN:VEVENT
DTSTART;VALUE=DATE:20250322
DTEND;VALUE=DATE:20250323
DTSTAMP:20260423T111226
CREATED:20250201T193213Z
LAST-MODIFIED:20250216T124017Z
UID:1601-1742601600-1742687999@mkchurchofchrist.uk
SUMMARY:Care Home Songs Ministration - The Willows
DESCRIPTION:
URL:https://mkchurchofchrist.uk/event/care-home-songs-ministration-the-willows/
ATTACH;FMTTYPE=image/jpeg:https://mkchurchofchrist.uk/wp-content/uploads/2024/02/OutReach-4-e1708736778327.jpg
END:VEVENT
BEGIN:VEVENT
DTSTART;TZID=UTC:20250322T140000
DTEND;TZID=UTC:20250322T150000
DTSTAMP:20260423T111226
CREATED:20250201T173232Z
LAST-MODIFIED:20250201T173232Z
UID:1576-1742652000-1742655600@mkchurchofchrist.uk
SUMMARY:Care Home Songs Ministration
DESCRIPTION:
URL:https://mkchurchofchrist.uk/event/care-home-songs-ministration/
LOCATION:The Willows Care Home\, Care Home\, The Willows\, Heathercroft\, Great Linford\, Milton Keynes\, MK14 5EG\, United Kingdom
END:VEVENT
END:VCALENDAR