BEGIN:VCALENDAR
VERSION:2.0
PRODID:-//Milton Keynes Church of Christ - ECPv6.15.20//NONSGML v1.0//EN
CALSCALE:GREGORIAN
METHOD:PUBLISH
X-WR-CALNAME:Milton Keynes Church of Christ
X-ORIGINAL-URL:https://mkchurchofchrist.uk
X-WR-CALDESC:Events for Milton Keynes Church of Christ
REFRESH-INTERVAL;VALUE=DURATION:PT1H
X-Robots-Tag:noindex
X-PUBLISHED-TTL:PT1H
BEGIN:VTIMEZONE
TZID:UTC
BEGIN:STANDARD
TZOFFSETFROM:+0000
TZOFFSETTO:+0000
TZNAME:UTC
DTSTART:20240101T000000
END:STANDARD
END:VTIMEZONE
BEGIN:VEVENT
DTSTART;TZID=UTC:20250212T200000
DTEND;TZID=UTC:20250212T210000
DTSTAMP:20260423T142233
CREATED:20250215T012420Z
LAST-MODIFIED:20250215T012420Z
UID:1929-1739390400-1739394000@mkchurchofchrist.uk
SUMMARY:Bible Studies
DESCRIPTION:
URL:https://mkchurchofchrist.uk/event/bible-studies/
LOCATION:10 Plaistow Cres\, Monkston Park\, Milton Keynes MK10 9PN\, United Kingdom
ATTACH;FMTTYPE=image/jpeg:https://mkchurchofchrist.uk/wp-content/uploads/2025/02/pexels-photo-6860390-6860390-scaled.jpg
END:VEVENT
END:VCALENDAR