BEGIN:VCALENDAR
VERSION:2.0
PRODID:-//Milton Keynes Church of Christ - ECPv6.15.20//NONSGML v1.0//EN
CALSCALE:GREGORIAN
METHOD:PUBLISH
X-WR-CALNAME:Milton Keynes Church of Christ
X-ORIGINAL-URL:https://mkchurchofchrist.uk
X-WR-CALDESC:Events for Milton Keynes Church of Christ
REFRESH-INTERVAL;VALUE=DURATION:PT1H
X-Robots-Tag:noindex
X-PUBLISHED-TTL:PT1H
BEGIN:VTIMEZONE
TZID:UTC
BEGIN:STANDARD
TZOFFSETFROM:+0000
TZOFFSETTO:+0000
TZNAME:UTC
DTSTART:20240101T000000
END:STANDARD
END:VTIMEZONE
BEGIN:VEVENT
DTSTART;TZID=UTC:20250201T080000
DTEND;TZID=UTC:20250201T170000
DTSTAMP:20260423T144701
CREATED:20250201T190822Z
LAST-MODIFIED:20250201T190822Z
UID:1584-1738396800-1738429200@mkchurchofchrist.uk
SUMMARY:Men's Training
DESCRIPTION:To be announced
URL:https://mkchurchofchrist.uk/event/mens-training/
END:VEVENT
BEGIN:VEVENT
DTSTART;TZID=UTC:20250201T080000
DTEND;TZID=UTC:20250201T170000
DTSTAMP:20260423T144701
CREATED:20250201T191326Z
LAST-MODIFIED:20250201T191400Z
UID:1589-1738396800-1738429200@mkchurchofchrist.uk
SUMMARY:Couples Retreat
DESCRIPTION:To be Announced
URL:https://mkchurchofchrist.uk/event/couples-retreat/
END:VEVENT
END:VCALENDAR